BEGIN:VCALENDAR
VERSION:2.0
PRODID:-//Arts &amp; Central - ECPv6.15.20//NONSGML v1.0//EN
CALSCALE:GREGORIAN
METHOD:PUBLISH
X-WR-CALNAME:Arts &amp; Central
X-ORIGINAL-URL:https://artsandcentral.com
X-WR-CALDESC:Events for Arts &amp; Central
REFRESH-INTERVAL;VALUE=DURATION:PT1H
X-Robots-Tag:noindex
X-PUBLISHED-TTL:PT1H
BEGIN:VTIMEZONE
TZID:UTC
BEGIN:STANDARD
TZOFFSETFROM:+0000
TZOFFSETTO:+0000
TZNAME:UTC
DTSTART:20240101T000000
END:STANDARD
END:VTIMEZONE
BEGIN:VEVENT
DTSTART;TZID=UTC:20260412T170000
DTEND;TZID=UTC:20260412T180000
DTSTAMP:20260423T222438
CREATED:20250923T195448Z
LAST-MODIFIED:20260404T203657Z
UID:4082-1776013200-1776016800@artsandcentral.com
SUMMARY:MEET OUR APRIL ARTISTS AND POETS!
DESCRIPTION:Meet our April Artists and Poets!\nTaste the local flavor\, experience the local art. Featured this month\, our menu shares the spotlight with talented artists and poets from our community. We are hosting an artist reception here on Sunday\, April 12th at 5:00pm. \n  \nArtist: \nKaren Chandler \nAfter many years of traditional training in oil painting\, photography\, design and computers\, I began doing illustration work for all of the major publishing houses. \nAfter moving to Florida my “Vintage Pop” style developed – influenced by the bright colors and groovy feeling of this area. I have been lucky enough to have painted a few murals around town. \nkarenchandlerfineart.com \n \n  \nPoets:\nDawn Christian \n \nDebbie Marie \n \nMichael Maulbeck \n \nRichie Mood \n \nKelly Kearns \n \nThe only solution to homelessness is housing. \nSecond Heart Homes support\, and love\, to 68 men and women who once lived on the streets and struggled with mental illnesses. \nThrough 11 homes across Sarasota and Manatee counties\, and with two new duplex homes opening in April for 12 women coming off the streets\, Second Heart Homes helps end homelessness in people’s lives permanently through its unique model based on housing\, support\, and love\, all without government funding. \nThe poems featured on the April menus at Arts & Central were written by residents now living in Second Heart Homes. Their voices helped inspire the documentary The Healing Mirror\, which will premiere at the Sarasota Film Festival on April 17 @ 2 PM. \nThe accompanying artwork was created in collaboration with artist and volunteer Kelly Kearns.
URL:https://artsandcentral.com/event/meet-our-october-artists-and-poets/
LOCATION:Arts & Central\, 611 CENTRAL AVE\, Sarasota\, FL\, 34236\, United States
ATTACH;FMTTYPE=image/png:https://artsandcentral.com/wp-content/uploads/2025/09/WebsiteGraphic-6-2.png
END:VEVENT
BEGIN:VEVENT
DTSTART;TZID=UTC:20260401T180000
DTEND;TZID=UTC:20260430T220000
DTSTAMP:20260423T222438
CREATED:20251003T183006Z
LAST-MODIFIED:20260401T170537Z
UID:4135-1775066400-1777586400@artsandcentral.com
SUMMARY:Live Music
DESCRIPTION:April \nTh – 4/2 – Emily Frost Solo (Guitar/vocals) – 6-10pm  \nFri – 4/3 – Jack Berry Trio (Jazz Trio) – 6-10pm \nSat – 4/4 – Sean Walsh (Guitar/vocals) – 6-10pm \nSun – 4/5 – Jamie Tremps – 10:30am-2pm \nTh – 4/9 – Ryan Faraday (guitar/vocals) – 6-10pm \nFri – 4/10 – Matt Gerhardt (Guitar/vocals) – 6-10pm \nSat – 4/11 – Tasa + Rob – 6-10pm \nSun – 4/12 – Jamie Tremps – 10:30am-2pm \nTh – 4/16 – Bryan Spainhower (guitar) – 6-10 \nFri – 4/17 – Dean Johanesen – 6-10pm \nSat – 4/18 – Darcie Allen Duo (Piano/vocals) – 6-10pm \nSun – 4/19 – Jamie Tremps – 10:30am-2pm \nTh – 4/23 – Ryan Faraday (guitar/vocals) – 6-10 \nFri – 4/24 – Bryan Spainhower (guitar) – 6-10 \nSat – 4/25 – Hot Club SRQ – 3 hours (6:30pm-9:30pm) \nSun – 4/26 – Jamie Tremps – 10:30am-2pm \nTh – 4/30 – Emily Fract Snin (Guitar/vocals) – 6-10pm
URL:https://artsandcentral.com/event/live-music/
ATTACH;FMTTYPE=image/png:https://artsandcentral.com/wp-content/uploads/2025/10/6-scaled.png
END:VEVENT
BEGIN:VEVENT
DTSTART;VALUE=DATE:20251201
DTEND;VALUE=DATE:20260612
DTSTAMP:20260423T222438
CREATED:20250508T225059Z
LAST-MODIFIED:20260107T161120Z
UID:3742-1764547200-1781222399@artsandcentral.com
SUMMARY:Get A Free Bottle of Wine!
DESCRIPTION:Enjoy a bottle of wine on the house when you dine with us!\nGet a free bottle (up to $40 value) with the purchase of two entrées priced $30 or more every Sunday- Thursday evening between 8:00-9:00pm at Arts & Central. \nLimit two bottles per table.\nNot valid with other promotions. \n 
URL:https://artsandcentral.com/event/get-a-free-bottle-of-wine/
LOCATION:Arts & Central\, 611 CENTRAL AVE\, Sarasota\, FL\, 34236\, United States
ATTACH;FMTTYPE=image/png:https://artsandcentral.com/wp-content/uploads/2025/05/4-2-scaled.png
END:VEVENT
BEGIN:VEVENT
DTSTART;TZID=UTC:20250829T080000
DTEND;TZID=UTC:20251001T170000
DTSTAMP:20260423T222438
CREATED:20250829T190320Z
LAST-MODIFIED:20251215T163955Z
UID:4035-1756454400-1759338000@artsandcentral.com
SUMMARY:Sip & Savor Thursdays
DESCRIPTION:Enjoy any of our premium glass of wine $20 or more for half price with the purchase of a dinner entree. \nOnly valid from 4pm to close \n*One glass per entree*
URL:https://artsandcentral.com/event/sip-savor-thursdays/
ATTACH;FMTTYPE=image/png:https://artsandcentral.com/wp-content/uploads/2025/08/3-scaled.png
END:VEVENT
BEGIN:VEVENT
DTSTART;TZID=UTC:20250501T000000
DTEND;TZID=UTC:20251130T000000
DTSTAMP:20260423T222438
CREATED:20250522T132820Z
LAST-MODIFIED:20250522T132820Z
UID:3824-1746057600-1764460800@artsandcentral.com
SUMMARY:First Responders Enjoy 50% OFF
DESCRIPTION:To all our heroes in uniform\, this one’s for you.\nEnjoy 50% off your meal Monday through Friday at Arts & Central as a small thank you for your service.
URL:https://artsandcentral.com/event/first-responders-enjoy-50-off/
ATTACH;FMTTYPE=image/jpeg:https://artsandcentral.com/wp-content/uploads/2025/05/360_F_288965641_IVV70X1l8GoQrbPDlWGwoVSkIu8xKgqT.jpg
END:VEVENT
END:VCALENDAR